BEGIN:VCALENDAR
VERSION:2.0
PRODID:-//Renown Health Events - ECPv6.15.20//NONSGML v1.0//EN
CALSCALE:GREGORIAN
METHOD:PUBLISH
X-WR-CALNAME:Renown Health Events
X-ORIGINAL-URL:https://events.renown.org
X-WR-CALDESC:Events for Renown Health Events
REFRESH-INTERVAL;VALUE=DURATION:PT1H
X-Robots-Tag:noindex
X-PUBLISHED-TTL:PT1H
BEGIN:VTIMEZONE
TZID:America/Los_Angeles
BEGIN:DAYLIGHT
TZOFFSETFROM:-0800
TZOFFSETTO:-0700
TZNAME:PDT
DTSTART:20250309T100000
END:DAYLIGHT
BEGIN:STANDARD
TZOFFSETFROM:-0700
TZOFFSETTO:-0800
TZNAME:PST
DTSTART:20251102T090000
END:STANDARD
BEGIN:DAYLIGHT
TZOFFSETFROM:-0800
TZOFFSETTO:-0700
TZNAME:PDT
DTSTART:20260308T100000
END:DAYLIGHT
BEGIN:STANDARD
TZOFFSETFROM:-0700
TZOFFSETTO:-0800
TZNAME:PST
DTSTART:20261101T090000
END:STANDARD
BEGIN:DAYLIGHT
TZOFFSETFROM:-0800
TZOFFSETTO:-0700
TZNAME:PDT
DTSTART:20270314T100000
END:DAYLIGHT
BEGIN:STANDARD
TZOFFSETFROM:-0700
TZOFFSETTO:-0800
TZNAME:PST
DTSTART:20271107T090000
END:STANDARD
END:VTIMEZONE
BEGIN:VEVENT
DTSTART;TZID=America/Los_Angeles:20260421T123000
DTEND;TZID=America/Los_Angeles:20260421T133000
DTSTAMP:20260421T023718
CREATED:20260116T225615Z
LAST-MODIFIED:20260316T220025Z
UID:351410-1776774600-1776778200@events.renown.org
SUMMARY:Labor & Delivery + Postpartum Tour
DESCRIPTION:THIS TOUR MEETS ON THE 2ND FLOOR OF THE SIERRA TOWER\, LABOR AND DELIVERY \n1 Ticket per Person (please include children in your total count) \nJoin a childbirth educator for a guided tour of our state-of-the-art Labor and Delivery facilities\, including: \n\nBaby and Family Suites\nLabor Assessment Area\nLabor and Delivery Rooms\nThe William N. Pennington Nursery\n\nWe’ll also walk you through: \n\nThe pre-admission process\nCheck-in procedures\nWhat to expect during your hospital stay\n\nCost: Free of charge\nTickets: 1 ticket per person (please include children in your total) \nImportant notes: \n\nChildren must be counted in your ticket total\nIf you are running late or feeling unwell\, you must reschedule.\nIf you can’t attend\, let us know so someone on the waiting list can take your spot\n\nPhone: 775-982-4352 \nEmail: mce.poehland@renown.org \nDIRECTIONS: \n\nLabor & Delivery ( 2nd floor Sierra Tower- for tours)\n\nClass Sold Out? Join the Waiting List!\nIf the class is sold out and you wish to be placed on the waiting list\, you can do so here: https://forms.office.com/r/DQe7AWLRKP or scan the QR code. \n \nUpcoming Classes & Tours\nClasses and tours scheduled for May through August 2026 will be posted in January 2026.\nIf you’d like to be notified when the next block of classes is available\, please fill out our interest form here: https://forms.office.com/r/fmPhea0Ekh or simply scan the QR code below.  \nQuestions?\nPlease contact the Coordinator of Childbirth Education:\nStevie Poehland\nPhone:775-982-4352\nEmail: MCE.Poheland@renown.org
URL:https://events.renown.org/event/labor-delivery-postpartum-tour-114/
LOCATION:Renown Regional Medical Center – Labor & Delivery\, 1155 Mill Street\, Reno\, NV\, 89502\, United States
CATEGORIES:Tour
ORGANIZER;CN="Renown RSVP":MAILTO:Renown-RSVP@renown.org
GEO:39.52552;-119.7952114
X-APPLE-STRUCTURED-LOCATION;VALUE=URI;X-ADDRESS=Renown Regional Medical Center – Labor & Delivery 1155 Mill Street Reno NV 89502 United States;X-APPLE-RADIUS=500;X-TITLE=1155 Mill Street:geo:-119.7952114,39.52552
END:VEVENT
BEGIN:VEVENT
DTSTART;TZID=America/Los_Angeles:20260421T140000
DTEND;TZID=America/Los_Angeles:20260421T150000
DTSTAMP:20260421T023718
CREATED:20260406T211907Z
LAST-MODIFIED:20260406T214554Z
UID:358301-1776780000-1776783600@events.renown.org
SUMMARY:Labor & Delivery + Postpartum Tour
DESCRIPTION:THIS TOUR MEETS ON THE 2ND FLOOR OF THE SIERRA TOWER\, LABOR AND DELIVERY \n1 Ticket per Person (please include children in your total count) \nJoin a childbirth educator for a guided tour of our state-of-the-art Labor and Delivery facilities\, including: \n\nBaby and Family Suites\nLabor Assessment Area\nLabor and Delivery Rooms\nThe William N. Pennington Nursery\n\nWe’ll also walk you through: \n\nThe pre-admission process\nCheck-in procedures\nWhat to expect during your hospital stay\n\nCost: Free of charge \nTickets: 1 ticket per person (please include children in your total) \nImportant notes: \n\nChildren must be counted in your ticket total\nIf you are running late or feeling unwell\, you must reschedule.\nIf you can’t attend\, let us know so someone on the waiting list can take your spot\n\nPhone: 775-982-4352 \nEmail: mce.poehland@renown.org \nDIRECTIONS: \n\nLabor & Delivery ( 2nd floor Sierra Tower- for tours)\n\nClass Sold Out? Join the Waiting List! \nIf the class is sold out and you wish to be placed on the waiting list\, you can do so here: https://forms.office.com/r/DQe7AWLRKP or scan the QR code. \n \nUpcoming Classes & Tours \nClasses and tours scheduled for May through August 2026 will be posted in January 2026. \nIf you’d like to be notified when the next block of classes is available\, please fill out our interest form here: https://forms.office.com/r/fmPhea0Ekh or simply scan the QR code below. \n \nQuestions? \nPlease contact the Coordinator of Childbirth Education: \nStevie Poehland \nPhone:775-982-4352 \nEmail: MCE.Poheland@renown.org
URL:https://events.renown.org/event/labor-delivery-postpartum-tour-133/
LOCATION:1155 Mill Street – Labor & Delivery\, 1155 Mill St\, Reno\, 89502
CATEGORIES:Tour
ORGANIZER;CN="Renown RSVP":MAILTO:Renown-RSVP@renown.org
GEO:39.5243718;-119.7957326
X-APPLE-STRUCTURED-LOCATION;VALUE=URI;X-ADDRESS=1155 Mill Street – Labor & Delivery 1155 Mill St Reno 89502;X-APPLE-RADIUS=500;X-TITLE=1155 Mill St:geo:-119.7957326,39.5243718
END:VEVENT
BEGIN:VEVENT
DTSTART;TZID=America/Los_Angeles:20260421T150000
DTEND;TZID=America/Los_Angeles:20260421T160000
DTSTAMP:20260421T023718
CREATED:20251126T203339Z
LAST-MODIFIED:20260317T225452Z
UID:345538-1776783600-1776787200@events.renown.org
SUMMARY:Breast Cancer Treatment Orientation Class (Registration Required)
DESCRIPTION:Renown Institute for Cancer offers one-hour weekly classes to newly diagnosed breast cancer patients and their families. These insightful classes are facilitated by oncology nurse navigators. \nIn this class\, you will: \n• Meet your navigator and learn about cancer support services available to you\n• Hear about pre-surgery instructions and your pre-admit appointment\n• Receive education in rehabilitation and lymphedema\n•Have the opportunity to ask questions and learn about treatments\, including chemotherapy\, biotherapy\, immunotherapy\, radiation therapy and clinical trials \nFor more information and to register\, call 775-982-7787 or visit renown.org/event. \nNote: 18y+ only. This class is not suitable for minors. Childcare is not provided. \nVideo-enabled attendance is available. Patients can access remotely and join from any video-enabled device (smartphone\, iPad\, laptop or webcam/desktop). Upon registering\, you will receive instructions on how to connect virtually. \nThe Conrad Breast Center is located on the third floor of the new Specialty Care Center at Renown South Meadows Medical Center at 10201 Double R Blvd\, Reno\, NV 89521.
URL:https://events.renown.org/event/breast-cancer-treatment-orientation-class-registration-required-2026-04-21/
LOCATION:Renown South Meadows Medical Center – Conrad Breast Center\, 10201 Double R Blvd\, Reno\, Nevada\, 89521\, United States
CATEGORIES:Classes and Education,Virtual
ORGANIZER;CN="Renown RSVP":MAILTO:Renown-RSVP@renown.org
GEO:39.4372056;-119.7585136
X-APPLE-STRUCTURED-LOCATION;VALUE=URI;X-ADDRESS=Renown South Meadows Medical Center – Conrad Breast Center 10201 Double R Blvd Reno Nevada 89521 United States;X-APPLE-RADIUS=500;X-TITLE=10201 Double R Blvd:geo:-119.7585136,39.4372056
END:VEVENT
BEGIN:VEVENT
DTSTART;TZID=America/Los_Angeles:20260421T160000
DTEND;TZID=America/Los_Angeles:20260421T170000
DTSTAMP:20260421T023718
CREATED:20251126T232558Z
LAST-MODIFIED:20260327T230006Z
UID:345360-1776787200-1776790800@events.renown.org
SUMMARY:Breast Oncology Strength and Stamina Program (BOSS)
DESCRIPTION:Supervised Exercise and Recovery for Breast Cancer Patients \nEmpower Your Recovery. Rebuild Your Strength. Regain Your Confidence. \nThe BOSS program is a specialized\, therapist-led exercise and recovery program designed to help individuals prepare for treatment\, support healing after treatment and safety return to daily activity. Led by licensed Physical Therapists\, this program focuses on improving mobility\, strength and overall wellness during every stage of recovery. \nWHO CAN JOIN\nIndividuals currently undergoing or recovering from breast cancer treatment seeking a safe and supportive way to regain strength and mobility. Exercises are adapted for each participant’s current range of motion\, treatment stage and symptom profile. \nPlease note: Medical clearance and a completed referral form from a member of your breast cancer treatment team are required prior to participating in the Breast Oncology Strength and Stamina (BOSS) Program \nREGISTRATION IS REQUIRED
URL:https://events.renown.org/event/2026-04-21/
LOCATION:Renown South Meadows Medical Center – Specialty Care Center\, 10201 Double R Blvd\, Reno\, Nevada
CATEGORIES:Virtual
ORGANIZER;CN="Renown RSVP":MAILTO:Renown-RSVP@renown.org
GEO:39.4381806;-119.7583223
X-APPLE-STRUCTURED-LOCATION;VALUE=URI;X-ADDRESS=Renown South Meadows Medical Center – Specialty Care Center 10201 Double R Blvd Reno Nevada;X-APPLE-RADIUS=500;X-TITLE=10201 Double R Blvd:geo:-119.7583223,39.4381806
END:VEVENT
BEGIN:VEVENT
DTSTART;TZID=America/Los_Angeles:20260421T180000
DTEND;TZID=America/Los_Angeles:20260421T200000
DTSTAMP:20260421T023718
CREATED:20251218T231003Z
LAST-MODIFIED:20260316T214119Z
UID:349946-1776794400-1776801600@events.renown.org
SUMMARY:Virtual Postpartum Recovery and Support Class
DESCRIPTION:All parents have unique postpartum and recovery experiences after birth. This 2-hour class helps prepare the birthing person and their partner for what they can expect after the birth and in the weeks that follow. It is offered monthly and welcomes parents and their support partners. \nTopics covered in this class include:\n• Postpartum care in the hospital\n• Physical and emotional changes after birth\n• Self-care during the postpartum period\n• Understanding the difference between postpartum blues and postpartum depression\n• Warning signs to watch for\n• Adjusting to life once you get home\n• Support for new parents and caregivers\nRegistration Information:\n• Please register using the name and information of the pregnant person.\n• 1 ticket = pregnant person + 1 partner
URL:https://events.renown.org/event/virtual-postpartum-recovery-and-support-class-5/
LOCATION:Renown Virtual Class Only\, NV\, United States
CATEGORIES:Classes and Education,Virtual
ORGANIZER;CN="Renown RSVP":MAILTO:Renown-RSVP@renown.org
END:VEVENT
END:VCALENDAR