BEGIN:VCALENDAR
VERSION:2.0
PRODID:-//Renown Health Events - ECPv6.15.20//NONSGML v1.0//EN
CALSCALE:GREGORIAN
METHOD:PUBLISH
X-ORIGINAL-URL:https://events.renown.org
X-WR-CALDESC:Events for Renown Health Events
REFRESH-INTERVAL;VALUE=DURATION:PT1H
X-Robots-Tag:noindex
X-PUBLISHED-TTL:PT1H
BEGIN:VTIMEZONE
TZID:America/Los_Angeles
BEGIN:DAYLIGHT
TZOFFSETFROM:-0800
TZOFFSETTO:-0700
TZNAME:PDT
DTSTART:20250309T100000
END:DAYLIGHT
BEGIN:STANDARD
TZOFFSETFROM:-0700
TZOFFSETTO:-0800
TZNAME:PST
DTSTART:20251102T090000
END:STANDARD
BEGIN:DAYLIGHT
TZOFFSETFROM:-0800
TZOFFSETTO:-0700
TZNAME:PDT
DTSTART:20260308T100000
END:DAYLIGHT
BEGIN:STANDARD
TZOFFSETFROM:-0700
TZOFFSETTO:-0800
TZNAME:PST
DTSTART:20261101T090000
END:STANDARD
BEGIN:DAYLIGHT
TZOFFSETFROM:-0800
TZOFFSETTO:-0700
TZNAME:PDT
DTSTART:20270314T100000
END:DAYLIGHT
BEGIN:STANDARD
TZOFFSETFROM:-0700
TZOFFSETTO:-0800
TZNAME:PST
DTSTART:20271107T090000
END:STANDARD
END:VTIMEZONE
BEGIN:VEVENT
DTSTART;TZID=America/Los_Angeles:20260420T100000
DTEND;TZID=America/Los_Angeles:20260420T110000
DTSTAMP:20260419T124808
CREATED:20240827T204131Z
LAST-MODIFIED:20251210T203731Z
UID:347410-1776679200-1776682800@events.renown.org
SUMMARY:Breastfeeding Circle Gathering
DESCRIPTION:Breastfeeding Circle Gatherings are a great place for breastfeeding moms to find support\, exchange experiences\, and discuss any concerns.\nPopular topics include: \n\nMilk supply\nPumping\nReturning to work\nSleeping\, or lack of sleep\nWeight checks\nWeighted feedings\nAnd more!\n\nIf you need direct support\, please call Breastfeeding Medicine to schedule a 1:1\, in person appointment at 775-982-6365. \nThis gathering is FREE to join.
URL:https://events.renown.org/event/breastfeeding-circle-gathering-2/2026-04-20/
LOCATION:Renown Women’s Health – Building F\, 901 East Second St\, Reno\, NV\, 89502\, United States
CATEGORIES:Classes and Education,Support Group
ORGANIZER;CN="The Lactation Connection":MAILTO:Renown-RSVP@renown.org
GEO:39.52777;-119.7981101
X-APPLE-STRUCTURED-LOCATION;VALUE=URI;X-ADDRESS=Renown Women’s Health – Building F 901 East Second St Reno NV 89502 United States;X-APPLE-RADIUS=500;X-TITLE=901 East Second St:geo:-119.7981101,39.52777
END:VEVENT
BEGIN:VEVENT
DTSTART;TZID=America/Los_Angeles:20260420T173000
DTEND;TZID=America/Los_Angeles:20260420T190000
DTSTAMP:20260419T124808
CREATED:20250822T235509Z
LAST-MODIFIED:20260317T222211Z
UID:337402-1776706200-1776711600@events.renown.org
SUMMARY:Men's Prostate Cancer Support Group
DESCRIPTION:Facilitated by a prostate cancer survivor\, this no-cost support group is designed to help men cope with prostate cancer by offering education and support for patients during their cancer journey. \nDetails: \n\nBoth in-person and virtual groups are available. \nVideo-enabled attendance is available for all attendees. \nPatients can access remotely and join from any video-enabled device (smartphone\, iPad\, laptop\, or webcam/desktop). \nUpon registering\, you will receive instructions on how to connect virtually. \nGroups will be held every first and third Monday of each month\, from 5:30 – 7:00 p.m. in the Sierra Tower – Conference Room 103 at Renown Regional Hospital. \n\nPlease note: You can renew registrations every calendar year. If you need assistance with registration\, contact RSVP at 775-982-7787 between 8 a.m. and 5 p.m.
URL:https://events.renown.org/event/mens-prostate-cancer-support-group-2-2026-04-20/
LOCATION:Renown Regional Medical Center – Sierra Meeting Room 103\, 1155 Mill Street\, Reno\, NV\, 89502\, United States
CATEGORIES:Support Group,Virtual
ORGANIZER;CN="Renown RSVP":MAILTO:Renown-RSVP@renown.org
GEO:39.52552;-119.7952114
X-APPLE-STRUCTURED-LOCATION;VALUE=URI;X-ADDRESS=Renown Regional Medical Center – Sierra Meeting Room 103 1155 Mill Street Reno NV 89502 United States;X-APPLE-RADIUS=500;X-TITLE=1155 Mill Street:geo:-119.7952114,39.52552
END:VEVENT
BEGIN:VEVENT
DTSTART;TZID=America/Los_Angeles:20260422T100000
DTEND;TZID=America/Los_Angeles:20260422T113000
DTSTAMP:20260419T124808
CREATED:20250823T000134Z
LAST-MODIFIED:20260317T225628Z
UID:337593-1776852000-1776857400@events.renown.org
SUMMARY:Cancer Caregiver Support Group
DESCRIPTION:This support group provides support\, education\, networking\, and resource materials to caregivers coping with a loved one diagnosed with cancer. \nIn effort to provide the most supportive atmosphere for those caring for loved one dealing with cancer\, this group is for current cancer caregivers only. \nIf you have lost a loved one to cancer\, there are these groups available for support: \n\nGrief Support Groups in Reno\n\nIf you have cancer\, Renown offers the following support groups: \n\nCancer Support Group\nMen’s Prostate Cancer Support Group\nNewly Diagnosed Breast Cancer Orientation Class\nLymphedema Education & Risk Reduction Class\n\n*Virtual attendance is available. Link is sent one day before the meeting to email provided on registration.
URL:https://events.renown.org/event/cancer-caregiver-support-group-2-2026-04-22/
LOCATION:Renown Regional Medical Center – Sierra Café Meeting Room 104\, 1155 Mill St.\, Reno\, NV\, 89502\, United States
CATEGORIES:Support Group,Virtual
ORGANIZER;CN="Renown RSVP":MAILTO:Renown-RSVP@renown.org
GEO:39.52552;-119.7952114
X-APPLE-STRUCTURED-LOCATION;VALUE=URI;X-ADDRESS=Renown Regional Medical Center – Sierra Café Meeting Room 104 1155 Mill St. Reno NV 89502 United States;X-APPLE-RADIUS=500;X-TITLE=1155 Mill St.:geo:-119.7952114,39.52552
END:VEVENT
BEGIN:VEVENT
DTSTART;TZID=America/Los_Angeles:20260423T100000
DTEND;TZID=America/Los_Angeles:20260423T110000
DTSTAMP:20260419T124808
CREATED:20240827T204131Z
LAST-MODIFIED:20251210T203732Z
UID:347411-1776938400-1776942000@events.renown.org
SUMMARY:Breastfeeding Circle Gathering
DESCRIPTION:Breastfeeding Circle Gatherings are a great place for breastfeeding moms to find support\, exchange experiences\, and discuss any concerns.\nPopular topics include: \n\nMilk supply\nPumping\nReturning to work\nSleeping\, or lack of sleep\nWeight checks\nWeighted feedings\nAnd more!\n\nIf you need direct support\, please call Breastfeeding Medicine to schedule a 1:1\, in person appointment at 775-982-6365. \nThis gathering is FREE to join.
URL:https://events.renown.org/event/breastfeeding-circle-gathering-2/2026-04-23/
LOCATION:Renown Women’s Health – Building F\, 901 East Second St\, Reno\, NV\, 89502\, United States
CATEGORIES:Classes and Education,Support Group
ORGANIZER;CN="The Lactation Connection":MAILTO:Renown-RSVP@renown.org
GEO:39.52777;-119.7981101
X-APPLE-STRUCTURED-LOCATION;VALUE=URI;X-ADDRESS=Renown Women’s Health – Building F 901 East Second St Reno NV 89502 United States;X-APPLE-RADIUS=500;X-TITLE=901 East Second St:geo:-119.7981101,39.52777
END:VEVENT
BEGIN:VEVENT
DTSTART;TZID=America/Los_Angeles:20260423T113000
DTEND;TZID=America/Los_Angeles:20260423T130000
DTSTAMP:20260419T124808
CREATED:20250822T235803Z
LAST-MODIFIED:20251216T233731Z
UID:337539-1776943800-1776949200@events.renown.org
SUMMARY:Cancer Support Group
DESCRIPTION:This group is for all patients facing cancer. The meeting enables participants to share experiences and express feelings and concerns. All cancer patients\, family members\, survivors\, and caregivers are welcome to attend. \nMeets weekly on Thursday from 11:30 a.m. – 1 p.m. in person and virtually. \nFor directions to Sierra Cafe 104\, please use the following link: Campus and Parking Maps | Renown Health \nClick on the “Renown Regional Medical Center Visitor Guide” to download the PDF map.  Sierra Cafe 104 is located on the 1st Floor of the Sierra Tower past the gift shop on the right as you enter the Sierra Cafe. \n\nVideo enabled attendance available. You can access remotely and join from any video-enabled device (smart phone\, iPad\, laptop\, or webcam/desktop). \nA virtual invitation with instructions on how to connect will be sent via email the Wednesday before the meeting.
URL:https://events.renown.org/event/cancer-support-group-3-2026-04-23/
LOCATION:Renown Regional Medical Center – Sierra Café Meeting Room 104\, 1155 Mill St.\, Reno\, NV\, 89502\, United States
CATEGORIES:Support Group,Virtual
ORGANIZER;CN="Renown RSVP":MAILTO:Renown-RSVP@renown.org
GEO:39.52552;-119.7952114
X-APPLE-STRUCTURED-LOCATION;VALUE=URI;X-ADDRESS=Renown Regional Medical Center – Sierra Café Meeting Room 104 1155 Mill St. Reno NV 89502 United States;X-APPLE-RADIUS=500;X-TITLE=1155 Mill St.:geo:-119.7952114,39.52552
END:VEVENT
BEGIN:VEVENT
DTSTART;TZID=America/Los_Angeles:20260427T100000
DTEND;TZID=America/Los_Angeles:20260427T110000
DTSTAMP:20260419T124808
CREATED:20240827T204131Z
LAST-MODIFIED:20251210T203732Z
UID:347412-1777284000-1777287600@events.renown.org
SUMMARY:Breastfeeding Circle Gathering
DESCRIPTION:Breastfeeding Circle Gatherings are a great place for breastfeeding moms to find support\, exchange experiences\, and discuss any concerns.\nPopular topics include: \n\nMilk supply\nPumping\nReturning to work\nSleeping\, or lack of sleep\nWeight checks\nWeighted feedings\nAnd more!\n\nIf you need direct support\, please call Breastfeeding Medicine to schedule a 1:1\, in person appointment at 775-982-6365. \nThis gathering is FREE to join.
URL:https://events.renown.org/event/breastfeeding-circle-gathering-2/2026-04-27/
LOCATION:Renown Women’s Health – Building F\, 901 East Second St\, Reno\, NV\, 89502\, United States
CATEGORIES:Classes and Education,Support Group
ORGANIZER;CN="The Lactation Connection":MAILTO:Renown-RSVP@renown.org
GEO:39.52777;-119.7981101
X-APPLE-STRUCTURED-LOCATION;VALUE=URI;X-ADDRESS=Renown Women’s Health – Building F 901 East Second St Reno NV 89502 United States;X-APPLE-RADIUS=500;X-TITLE=901 East Second St:geo:-119.7981101,39.52777
END:VEVENT
BEGIN:VEVENT
DTSTART;TZID=America/Los_Angeles:20260429T100000
DTEND;TZID=America/Los_Angeles:20260429T113000
DTSTAMP:20260419T124808
CREATED:20250823T000134Z
LAST-MODIFIED:20250912T200058Z
UID:337594-1777456800-1777462200@events.renown.org
SUMMARY:Cancer Caregiver Support Group
DESCRIPTION:This support group provides support\, education\, networking\, and resource materials to caregivers coping with a loved one diagnosed with cancer. \nIn effort to provide the most supportive atmosphere for those caring for loved one dealing with cancer\, this group is for current cancer caregivers only. \nIf you have lost a loved one to cancer\, there are these groups available for support: \n\nGrief Support Groups in Reno\n\nIf you have cancer\, Renown offers the following support groups: \n\nCancer Support Group\nMen’s Prostate Cancer Support Group\nNewly Diagnosed Breast Cancer Orientation Class\nLymphedema Education & Risk Reduction Class\n\n*Virtual attendance is available. Link is sent one day before the meeting to email provided on registration.
URL:https://events.renown.org/event/cancer-caregiver-support-group-2-2026-04-29/
LOCATION:Renown Regional Medical Center – Sierra Café Meeting Room 104\, 1155 Mill St.\, Reno\, NV\, 89502\, United States
CATEGORIES:Support Group,Virtual
ORGANIZER;CN="Renown RSVP":MAILTO:Renown-RSVP@renown.org
GEO:39.52552;-119.7952114
X-APPLE-STRUCTURED-LOCATION;VALUE=URI;X-ADDRESS=Renown Regional Medical Center – Sierra Café Meeting Room 104 1155 Mill St. Reno NV 89502 United States;X-APPLE-RADIUS=500;X-TITLE=1155 Mill St.:geo:-119.7952114,39.52552
END:VEVENT
BEGIN:VEVENT
DTSTART;TZID=America/Los_Angeles:20260430T100000
DTEND;TZID=America/Los_Angeles:20260430T110000
DTSTAMP:20260419T124808
CREATED:20240827T204131Z
LAST-MODIFIED:20251210T203733Z
UID:347413-1777543200-1777546800@events.renown.org
SUMMARY:Breastfeeding Circle Gathering
DESCRIPTION:Breastfeeding Circle Gatherings are a great place for breastfeeding moms to find support\, exchange experiences\, and discuss any concerns.\nPopular topics include: \n\nMilk supply\nPumping\nReturning to work\nSleeping\, or lack of sleep\nWeight checks\nWeighted feedings\nAnd more!\n\nIf you need direct support\, please call Breastfeeding Medicine to schedule a 1:1\, in person appointment at 775-982-6365. \nThis gathering is FREE to join.
URL:https://events.renown.org/event/breastfeeding-circle-gathering-2/2026-04-30/
LOCATION:Renown Women’s Health – Building F\, 901 East Second St\, Reno\, NV\, 89502\, United States
CATEGORIES:Classes and Education,Support Group
ORGANIZER;CN="The Lactation Connection":MAILTO:Renown-RSVP@renown.org
GEO:39.52777;-119.7981101
X-APPLE-STRUCTURED-LOCATION;VALUE=URI;X-ADDRESS=Renown Women’s Health – Building F 901 East Second St Reno NV 89502 United States;X-APPLE-RADIUS=500;X-TITLE=901 East Second St:geo:-119.7981101,39.52777
END:VEVENT
BEGIN:VEVENT
DTSTART;TZID=America/Los_Angeles:20260430T113000
DTEND;TZID=America/Los_Angeles:20260430T130000
DTSTAMP:20260419T124808
CREATED:20250822T235804Z
LAST-MODIFIED:20251216T233700Z
UID:337540-1777548600-1777554000@events.renown.org
SUMMARY:Cancer Support Group
DESCRIPTION:This group is for all patients facing cancer. The meeting enables participants to share experiences and express feelings and concerns. All cancer patients\, family members\, survivors\, and caregivers are welcome to attend. \nMeets weekly on Thursday from 11:30 a.m. – 1 p.m. in person and virtually. \nFor directions to Sierra Cafe 104\, please use the following link: Campus and Parking Maps | Renown Health \nClick on the “Renown Regional Medical Center Visitor Guide” to download the PDF map.  Sierra Cafe 104 is located on the 1st Floor of the Sierra Tower past the gift shop on the right as you enter the Sierra Cafe. \n\nVideo enabled attendance available. You can access remotely and join from any video-enabled device (smart phone\, iPad\, laptop\, or webcam/desktop). \nA virtual invitation with instructions on how to connect will be sent via email the Wednesday before the meeting.
URL:https://events.renown.org/event/cancer-support-group-3-2026-04-30/
LOCATION:Renown Regional Medical Center – Sierra Café Meeting Room 104\, 1155 Mill St.\, Reno\, NV\, 89502\, United States
CATEGORIES:Support Group,Virtual
ORGANIZER;CN="Renown RSVP":MAILTO:Renown-RSVP@renown.org
GEO:39.52552;-119.7952114
X-APPLE-STRUCTURED-LOCATION;VALUE=URI;X-ADDRESS=Renown Regional Medical Center – Sierra Café Meeting Room 104 1155 Mill St. Reno NV 89502 United States;X-APPLE-RADIUS=500;X-TITLE=1155 Mill St.:geo:-119.7952114,39.52552
END:VEVENT
END:VCALENDAR